BEGIN:VCALENDAR
VERSION:2.0
PRODID:-//Hobby Modellsport Verein Vaihingen Enz e.V. - ECPv6.15.20//NONSGML v1.0//EN
CALSCALE:GREGORIAN
METHOD:PUBLISH
X-WR-CALNAME:Hobby Modellsport Verein Vaihingen Enz e.V.
X-ORIGINAL-URL:https://hmsv.net
X-WR-CALDESC:Veranstaltungen für Hobby Modellsport Verein Vaihingen Enz e.V.
REFRESH-INTERVAL;VALUE=DURATION:PT1H
X-Robots-Tag:noindex
X-PUBLISHED-TTL:PT1H
BEGIN:VTIMEZONE
TZID:Europe/Berlin
BEGIN:DAYLIGHT
TZOFFSETFROM:+0100
TZOFFSETTO:+0200
TZNAME:CEST
DTSTART:20250330T010000
END:DAYLIGHT
BEGIN:STANDARD
TZOFFSETFROM:+0200
TZOFFSETTO:+0100
TZNAME:CET
DTSTART:20251026T010000
END:STANDARD
BEGIN:DAYLIGHT
TZOFFSETFROM:+0100
TZOFFSETTO:+0200
TZNAME:CEST
DTSTART:20260329T010000
END:DAYLIGHT
BEGIN:STANDARD
TZOFFSETFROM:+0200
TZOFFSETTO:+0100
TZNAME:CET
DTSTART:20261025T010000
END:STANDARD
BEGIN:DAYLIGHT
TZOFFSETFROM:+0100
TZOFFSETTO:+0200
TZNAME:CEST
DTSTART:20270328T010000
END:DAYLIGHT
BEGIN:STANDARD
TZOFFSETFROM:+0200
TZOFFSETTO:+0100
TZNAME:CET
DTSTART:20271031T010000
END:STANDARD
END:VTIMEZONE
BEGIN:VEVENT
DTSTART;TZID=Europe/Berlin:20260502T140000
DTEND;TZID=Europe/Berlin:20260502T200000
DTSTAMP:20260423T100026
CREATED:20220424T085722Z
LAST-MODIFIED:20260315T123954Z
UID:8982-1777730400-1777752000@hmsv.net
SUMMARY:HMSV - Fly in the May & Maiden Day
DESCRIPTION:Gemeinsamer Flugtag im Weitfeld mit dem Motto „Maiden Day“: Zeigt her Eure neuen\, renovierten\, wiederentdeckten und wiederbelebten Modelle – mit leckerem vom Grill!
URL:https://hmsv.net/event/fly-in-the-may/
LOCATION:HMSV Flugplatz im Weitfeld
END:VEVENT
BEGIN:VEVENT
DTSTART;TZID=Europe/Berlin:20260627T090000
DTEND;TZID=Europe/Berlin:20260627T220000
DTSTAMP:20260423T100026
CREATED:20250214T183042Z
LAST-MODIFIED:20260110T145540Z
UID:10621-1782550800-1782597600@hmsv.net
SUMMARY:HMSV - Freundschaftsfliegen
DESCRIPTION:Gemeinsames Fliegen mit Freunden und Gästen. \nBitte um Anmeldung wer Campen möchte. 
URL:https://hmsv.net/event/hmsv-freundschaftsfliegen/
LOCATION:HMSV Flugplatz im Weitfeld
END:VEVENT
BEGIN:VEVENT
DTSTART;TZID=Europe/Berlin:20260725T090000
DTEND;TZID=Europe/Berlin:20260726T200000
DTSTAMP:20260423T100026
CREATED:20240113T105112Z
LAST-MODIFIED:20260315T124449Z
UID:10272-1784970000-1785096000@hmsv.net
SUMMARY:HMSV - Camp & Fly - Sommerfest
DESCRIPTION:Dieses Wochenende steht im Zeichen der Familien und Kameradschaft: Gemeinsames Grillen\, Sommerfest und Campen auf dem Fluggelände mit den Familien\, Kindern und Jugendlichen. \nBitte um Anmeldung wer Campen möchte. 
URL:https://hmsv.net/event/hmsv-grill-fly-mfsv-hmsv/
LOCATION:HMSV Flugplatz im Weitfeld
END:VEVENT
BEGIN:VEVENT
DTSTART;TZID=Europe/Berlin:20260801T140000
DTEND;TZID=Europe/Berlin:20260801T180000
DTSTAMP:20260423T100026
CREATED:20220424T085936Z
LAST-MODIFIED:20260415T192954Z
UID:8988-1785592800-1785607200@hmsv.net
SUMMARY:HMSV - Ferienprogramm
DESCRIPTION:
URL:https://hmsv.net/event/ferienprogramm/
LOCATION:HMSV Flugplatz im Weitfeld
END:VEVENT
BEGIN:VEVENT
DTSTART;VALUE=DATE:20261017
DTEND;VALUE=DATE:20261018
DTSTAMP:20260423T100026
CREATED:20250807T204954Z
LAST-MODIFIED:20251224T114922Z
UID:10994-1792195200-1792281599@hmsv.net
SUMMARY:HMSV - Saisonabschluss
DESCRIPTION:Gemeinschaftliches Abfliegen & Abgrillen
URL:https://hmsv.net/event/saisonabschluss/
LOCATION:HMSV Flugplatz im Weitfeld
END:VEVENT
BEGIN:VEVENT
DTSTART;TZID=Europe/Berlin:20261024T090000
DTEND;TZID=Europe/Berlin:20261024T120000
DTSTAMP:20260423T100026
CREATED:20220424T090057Z
LAST-MODIFIED:20251224T112936Z
UID:8992-1792832400-1792843200@hmsv.net
SUMMARY:HMSV - Arbeitseinsatz
DESCRIPTION:
URL:https://hmsv.net/event/arbeitseinsatz-2/
LOCATION:HMSV Flugplatz im Weitfeld
END:VEVENT
BEGIN:VEVENT
DTSTART;TZID=Europe/Berlin:20261128T130000
DTEND;TZID=Europe/Berlin:20261128T210000
DTSTAMP:20260423T100026
CREATED:20220424T090137Z
LAST-MODIFIED:20251224T112809Z
UID:8994-1795870800-1795899600@hmsv.net
SUMMARY:HMSV @ Weihnachtsmarkt Kleinglattbach
DESCRIPTION:
URL:https://hmsv.net/event/weihnachtsmarkt-kleinglattbach/
LOCATION:Kleinglattbach Innenstadt\, Seegasse\, Kleinglattbach\, 71665
END:VEVENT
BEGIN:VEVENT
DTSTART;TZID=Europe/Berlin:20261205T183000
DTEND;TZID=Europe/Berlin:20261205T230000
DTSTAMP:20260423T100026
CREATED:20220424T090338Z
LAST-MODIFIED:20251224T112742Z
UID:8998-1796495400-1796511600@hmsv.net
SUMMARY:HMSV - Weihnachtsfeier
DESCRIPTION:
URL:https://hmsv.net/event/weihnachtsfeier/
END:VEVENT
END:VCALENDAR